BEGIN:VCALENDAR
VERSION:2.0
PRODID:-//Mateusz Smoczyński - ECPv6.15.20//NONSGML v1.0//EN
CALSCALE:GREGORIAN
METHOD:PUBLISH
X-ORIGINAL-URL:https://jazzviolinist.com
X-WR-CALDESC:Wydarzenia dla Mateusz Smoczyński
REFRESH-INTERVAL;VALUE=DURATION:PT1H
X-Robots-Tag:noindex
X-PUBLISHED-TTL:PT1H
BEGIN:VTIMEZONE
TZID:Europe/Paris
BEGIN:DAYLIGHT
TZOFFSETFROM:+0100
TZOFFSETTO:+0200
TZNAME:CEST
DTSTART:20250330T010000
END:DAYLIGHT
BEGIN:STANDARD
TZOFFSETFROM:+0200
TZOFFSETTO:+0100
TZNAME:CET
DTSTART:20251026T010000
END:STANDARD
BEGIN:DAYLIGHT
TZOFFSETFROM:+0100
TZOFFSETTO:+0200
TZNAME:CEST
DTSTART:20260329T010000
END:DAYLIGHT
BEGIN:STANDARD
TZOFFSETFROM:+0200
TZOFFSETTO:+0100
TZNAME:CET
DTSTART:20261025T010000
END:STANDARD
BEGIN:DAYLIGHT
TZOFFSETFROM:+0100
TZOFFSETTO:+0200
TZNAME:CEST
DTSTART:20270328T010000
END:DAYLIGHT
BEGIN:STANDARD
TZOFFSETFROM:+0200
TZOFFSETTO:+0100
TZNAME:CET
DTSTART:20271031T010000
END:STANDARD
END:VTIMEZONE
BEGIN:VEVENT
DTSTART;TZID=Europe/Paris:20260507T213000
DTEND;TZID=Europe/Paris:20260507T233000
DTSTAMP:20260421T120319
CREATED:20260306T102246Z
LAST-MODIFIED:20260306T102421Z
UID:10000037-1778189400-1778196600@jazzviolinist.com
SUMMARY:Rabih Abou-Khalil Group – La Théorie des Cordes | Jazz à Liège
DESCRIPTION:What a joy it is to welcome back this poet of the oud\, a pioneer of musical journeys between East (his native Lebanon!) and West in the mid-1980s! For over forty years\, he has stood as a tightrope walker between two worlds\, two states of being that nourish his fertile imagination\, invoking in his own way the great Zarathustra. And today he returns with “strings” — a constant in his work\, of course — but this time alongside two exceptional Polish virtuosos: Mateusz Smoczynski on violin and Krzysztof Lenczowski on cello. Jarrod Cagwin\, faithful guardian of the tempo\, will anchor the ensemble\, for a concert shaped by vitality and perpetual renewal. \nLet us dance\, laugh\, and allow ourselves to be guided by this enchanting\, mischievous oud. Without a doubt\, Rabih will lead us into his whimsical and endearing world. \nRabih Abou-Khalil – oud\nMateusz Smoczyński – violin\nKrzysztof Lenczowski – cello\nJarrod Cagwin – drums\, percussion
URL:https://jazzviolinist.com/event/rabih-abou-khalil-group-la-theorie-des-cordes-jazz-a-liege/
LOCATION:Trocadéro\, Rue Lulay-des-Febvres 6\, Liège\, Belgium
CATEGORIES:La Théorie des Cordes,Rabih Abou-Khalil
ATTACH;FMTTYPE=image/jpeg:https://jazzviolinist.com/wp-content/uploads/2026/01/Rabih-Abou-Khalil_16-9.jpg
END:VEVENT
END:VCALENDAR