BEGIN:VCALENDAR
VERSION:2.0
PRODID:-//Mateusz Smoczyński - ECPv6.15.20//NONSGML v1.0//EN
CALSCALE:GREGORIAN
METHOD:PUBLISH
X-WR-CALNAME:Mateusz Smoczyński
X-ORIGINAL-URL:https://jazzviolinist.com
X-WR-CALDESC:Wydarzenia dla Mateusz Smoczyński
REFRESH-INTERVAL;VALUE=DURATION:PT1H
X-Robots-Tag:noindex
X-PUBLISHED-TTL:PT1H
BEGIN:VTIMEZONE
TZID:Africa/Casablanca
BEGIN:DAYLIGHT
TZOFFSETFROM:+0100
TZOFFSETTO:+0000
TZNAME:+00
DTSTART:20240310T020000
END:DAYLIGHT
BEGIN:STANDARD
TZOFFSETFROM:+0000
TZOFFSETTO:+0100
TZNAME:+01
DTSTART:20240414T020000
END:STANDARD
BEGIN:DAYLIGHT
TZOFFSETFROM:+0100
TZOFFSETTO:+0000
TZNAME:+00
DTSTART:20250223T020000
END:DAYLIGHT
BEGIN:STANDARD
TZOFFSETFROM:+0000
TZOFFSETTO:+0100
TZNAME:+01
DTSTART:20250406T020000
END:STANDARD
BEGIN:DAYLIGHT
TZOFFSETFROM:+0100
TZOFFSETTO:+0000
TZNAME:+00
DTSTART:20260215T020000
END:DAYLIGHT
BEGIN:STANDARD
TZOFFSETFROM:+0000
TZOFFSETTO:+0100
TZNAME:+01
DTSTART:20260322T020000
END:STANDARD
END:VTIMEZONE
BEGIN:VTIMEZONE
TZID:Europe/Warsaw
BEGIN:DAYLIGHT
TZOFFSETFROM:+0100
TZOFFSETTO:+0200
TZNAME:CEST
DTSTART:20240331T010000
END:DAYLIGHT
BEGIN:STANDARD
TZOFFSETFROM:+0200
TZOFFSETTO:+0100
TZNAME:CET
DTSTART:20241027T010000
END:STANDARD
BEGIN:DAYLIGHT
TZOFFSETFROM:+0100
TZOFFSETTO:+0200
TZNAME:CEST
DTSTART:20250330T010000
END:DAYLIGHT
BEGIN:STANDARD
TZOFFSETFROM:+0200
TZOFFSETTO:+0100
TZNAME:CET
DTSTART:20251026T010000
END:STANDARD
BEGIN:DAYLIGHT
TZOFFSETFROM:+0100
TZOFFSETTO:+0200
TZNAME:CEST
DTSTART:20260329T010000
END:DAYLIGHT
BEGIN:STANDARD
TZOFFSETFROM:+0200
TZOFFSETTO:+0100
TZNAME:CET
DTSTART:20261025T010000
END:STANDARD
END:VTIMEZONE
BEGIN:VTIMEZONE
TZID:Europe/Tallinn
BEGIN:DAYLIGHT
TZOFFSETFROM:+0200
TZOFFSETTO:+0300
TZNAME:EEST
DTSTART:20240331T010000
END:DAYLIGHT
BEGIN:STANDARD
TZOFFSETFROM:+0300
TZOFFSETTO:+0200
TZNAME:EET
DTSTART:20241027T010000
END:STANDARD
BEGIN:DAYLIGHT
TZOFFSETFROM:+0200
TZOFFSETTO:+0300
TZNAME:EEST
DTSTART:20250330T010000
END:DAYLIGHT
BEGIN:STANDARD
TZOFFSETFROM:+0300
TZOFFSETTO:+0200
TZNAME:EET
DTSTART:20251026T010000
END:STANDARD
BEGIN:DAYLIGHT
TZOFFSETFROM:+0200
TZOFFSETTO:+0300
TZNAME:EEST
DTSTART:20260329T010000
END:DAYLIGHT
BEGIN:STANDARD
TZOFFSETFROM:+0300
TZOFFSETTO:+0200
TZNAME:EET
DTSTART:20261025T010000
END:STANDARD
END:VTIMEZONE
BEGIN:VEVENT
DTSTART;TZID=Africa/Casablanca:20251228T223000
DTEND;TZID=Africa/Casablanca:20251228T233000
DTSTAMP:20260421T213112
CREATED:20251223T230257Z
LAST-MODIFIED:20251223T230257Z
UID:10000015-1766961000-1766964600@jazzviolinist.com
SUMMARY:Andrés Coll – Cosmic Trio | Jazz sous l’Arganier
DESCRIPTION:Andrés Coll – Cosmic Trio (Espagne – Pologne) Marimba · Violon · Batterie Un trio qui fusionne des traditions musicales profondément ancrées avec une improvisation audacieuse et sans frontières. Plus qu’une rencontre de virtuoses\, c’est une amitié artistique née autour de l’influence du pianiste Joachim Kühn. Mené par Andrés Coll (marimba électrique\, piano\, castagnettes)\, aux côtés du violoniste polonais Mateusz Smoczyński et du batteur espagnol Ramón López\, le trio développe une musique libre\, inventive et intensément expressive.
URL:https://jazzviolinist.com/event/andres-coll-cosmic-trio-jazz-sous-larganier/
LOCATION:Dar Souiri\, 10 avenue du Caire\, Essaouira\, 44000\, Morocco
ATTACH;FMTTYPE=image/jpeg:https://jazzviolinist.com/wp-content/uploads/2025/12/Andres-Coll-Cosmic-Trio.jpg
END:VEVENT
BEGIN:VEVENT
DTSTART;TZID=Europe/Warsaw:20251218T190000
DTEND;TZID=Europe/Warsaw:20251218T210000
DTSTAMP:20260421T213112
CREATED:20251120T202632Z
LAST-MODIFIED:20251205T125253Z
UID:10000013-1766084400-1766091600@jazzviolinist.com
SUMMARY:Mateusz Smoczyński\, Dominik Wania\, Orkiestra Symfoniczna UMFC\, Jakub Chrenowicz – Fallen Angel
DESCRIPTION:Środa na Okólniku\n\n\n\nMateusz Smoczyński skrzypce\nDominik Wania fortepian\nOrkiestra Symfoniczna UMFC\nJakub Chrenowicz dyrygent\nChopin University Big Band\nPiotr Kostrzewa bandleader\nstudenci Wydziału Tańca UMFC\nBeata Książkiewicz\, Anna Linnik\, Andrzej Morawiec\, Zofia Rudnicka choreografia i opieka artystyczna \nProgram:\nMateusz Smoczyński – Koncert na skrzypce\, fortepian i orkiestrę Fallen Angel\nPiotr Czajkowski | Duke Ellington – Dziadek do orzechów \nSala Koncertowa
URL:https://jazzviolinist.com/event/mateusz-smoczynski-dominik-wania-orkiestra-symfoniczna-umfc-jakub-chrenowicz-fallen-angel/2025-12-18/
LOCATION:Uniwersytet Muzyczny Fryderyka Chopina\, Okólnik 2\, Warszawa\, Poland
ATTACH;FMTTYPE=image/jpeg:https://jazzviolinist.com/wp-content/uploads/2025/11/MateuszSmoczynski-c-joannajanke-_JOW9948-Edit.jpg
END:VEVENT
BEGIN:VEVENT
DTSTART;TZID=Europe/Warsaw:20251217T190000
DTEND;TZID=Europe/Warsaw:20251217T210000
DTSTAMP:20260421T213112
CREATED:20251120T202632Z
LAST-MODIFIED:20251205T125253Z
UID:10000010-1765998000-1766005200@jazzviolinist.com
SUMMARY:Mateusz Smoczyński\, Dominik Wania\, Orkiestra Symfoniczna UMFC\, Jakub Chrenowicz – Fallen Angel
DESCRIPTION:Środa na Okólniku\n\n\n\nMateusz Smoczyński skrzypce\nDominik Wania fortepian\nOrkiestra Symfoniczna UMFC\nJakub Chrenowicz dyrygent\nChopin University Big Band\nPiotr Kostrzewa bandleader\nstudenci Wydziału Tańca UMFC\nBeata Książkiewicz\, Anna Linnik\, Andrzej Morawiec\, Zofia Rudnicka choreografia i opieka artystyczna \nProgram:\nMateusz Smoczyński – Koncert na skrzypce\, fortepian i orkiestrę Fallen Angel\nPiotr Czajkowski | Duke Ellington – Dziadek do orzechów \nSala Koncertowa
URL:https://jazzviolinist.com/event/mateusz-smoczynski-dominik-wania-orkiestra-symfoniczna-umfc-jakub-chrenowicz-fallen-angel/2025-12-17/
LOCATION:Uniwersytet Muzyczny Fryderyka Chopina\, Okólnik 2\, Warszawa\, Poland
ATTACH;FMTTYPE=image/jpeg:https://jazzviolinist.com/wp-content/uploads/2025/11/MateuszSmoczynski-c-joannajanke-_JOW9948-Edit.jpg
END:VEVENT
BEGIN:VEVENT
DTSTART;TZID=Europe/Warsaw:20251212T183000
DTEND;TZID=Europe/Warsaw:20251212T203000
DTSTAMP:20260421T213112
CREATED:20251208T125152Z
LAST-MODIFIED:20251208T125257Z
UID:10000014-1765564200-1765571400@jazzviolinist.com
SUMMARY:Myrczek / Smoczyński / Tomaszewski / Święs - Gombrowicz na jazzowo
DESCRIPTION:Program koncertu oparty jest na kilku utworach wokalno-instrumentalnych\, z których każdy poświęcony został innej postaci znanej z powieści i dramatów Gombrowicza. \n\n\n\n\n\n\n\n\n\nSpotkajmy się 12 grudnia o godz. 18:30 w Muzeum Witolda Gombrowicza we Wsoli. \nProgram koncertu oparty jest na kilku utworach wokalno-instrumentalnych\, z których każdy poświęcony został innej postaci znanej z powieści i dramatów Gombrowicza. W swojej prozie\, a zwłaszcza utworach scenicznych\, autor „Ferdydurke” posługuje się niezwykle muzyczną\, wyrazistą frazą – pełną różnorodnych melodii. To właśnie one stały się inspiracją dla kompozytora i wykonawców\, którzy tworzą muzykę łączącą tradycję współczesnego jazzu\, elementy awangardy oraz przestrzeń improwizacji. Każdy utwór powstał w oparciu o wybrane zdania z dzieł Gombrowicza\, wypowiadane przez konkretne literackie postacie. \nProjekt finansowany jest ze środków Samorządu Województwa Mazowieckiego w ramach „Strategii rozwoju kultury w województwie mazowieckim na lata 2023–2027”. \nWSTĘP WOLNY \nScenariusz i reżyseria: Łukasz Czuj \nWystąpią\nWojciech Myrczek – wokal \nPaweł Tomaszewski – fortepian\, aranżacje \nMateusz Smoczyński – skrzypce \nAndrzej Święs – kontrabas \nO koncercie\nPrzewodnim motywem wydarzenia jest idea maski i formy – czyli\, jak pisał Gombrowicz\, „gęby”\, które przyjmujemy wobec świata. Każdy z wybranych bohaterów uosabia inną maskę\, inne spojrzenie\, rytm i temperament. Razem tworzą barwną galerię osobowości i postaw\, również tych odnoszących się do polskości – nieodłącznego tematu twórczości Gombrowicza\, który nieustannie prowadził dialog z narodową tradycją\, podważał utrwalone formy\, ale też mierzył się z mitami kultury szlacheckiej i sarmackiej. \nUtwory stają się muzycznymi portretami\, powstałymi wokół krótkich fragmentów prozy i dramatów autora. Każdy z nich niesie inną emocję i inną formę muzyczną – od swingu i scatu\, przez rap\, aż po wodewil\, klasyczne tango czy pastisz operowy. \nCałość wydarzenia spajać będzie narracja złożona z fragmentów „Dziennika” Witolda Gombrowicza\, a towarzyszyć jej będą wizualizacje nawiązujące do charakteru poszczególnych części oraz informacje kontekstowe dotyczące prezentowanych postaci. \nOrganizatorzy\nOrganizator/produkcja: Fundacja Przyjaciół Sztuk AUREA PORTA\nWspółorganizator: Muzeum Witolda Gombrowicza we Wsoli \nPatroni medialni: Dziennik Teatralny\, AICT\, Polmic \nPartner: Legalna Kultura
URL:https://jazzviolinist.com/event/myrczek-smoczynski-tomaszewski-swies-gombrowicz-na-jazzowo/
LOCATION:Muzeum Witolda Gombrowicza\, Witolda Gombrowicza 1\, Wsola\, 26-660
ATTACH;FMTTYPE=image/jpeg:https://jazzviolinist.com/wp-content/uploads/2025/12/594291398_1477887584148984_3131813323028353814_n.jpg
END:VEVENT
BEGIN:VEVENT
DTSTART;TZID=Europe/Warsaw:20251209T190000
DTEND;TZID=Europe/Warsaw:20251209T210000
DTSTAMP:20260421T213112
CREATED:20251205T123128Z
LAST-MODIFIED:20251205T123128Z
UID:10000008-1765306800-1765314000@jazzviolinist.com
SUMMARY:Ilona Damięcka & Mateusz Smoczyński
DESCRIPTION:JAZZOWY WTOREK W KAMERALNEJ \nIlona Damięcka – fortepian\, vocal\nMateusz Smoczyński – skrzypce \n\nIlona Damięcka. Absolwentka Wydziału Jazzu i Muzyki Rozrywkowej w Katowicach\, laureatka Konkursu kompozytorskiego im.Krzysztofa Komedy w Słupsku w 1999 roku – III nagroda za utwór „Bossa For Bosa” do tekstu  Andrzeja Schmidta. Wszechstronna artystka\, która zarówno jako pianistka jak i wokalistka porusza się w środkowym nurcie jazzu\, a także w muzyce free jazzowej. Napisano o niej: „piękna\, zdolna\, wrażliwa\, o ciepłej barwie głosu”. \nMateusz Smoczyński. Skrzypek\, solista i kompozytor\, jeden z najczęściej koncertujących za granicą polskich muzyków\, współzałożyciel Atom String Quartet\, przez lata mieszkający w San Francisco\, gdzie współpracował z legendarnym Turtle Island Quartet.
URL:https://jazzviolinist.com/event/ilona-damiecka-mateusz-smoczynski/
LOCATION:Filharmonia Częstochowska im. Bronisława Hubermana\, Wilsona 16\, Częstochowa\, 42-202\, Poland
ATTACH;FMTTYPE=image/webp:https://jazzviolinist.com/wp-content/uploads/2025/12/Ilona-Damiecka-i-Mateusz-Smoczynski-Sopot.webp
END:VEVENT
BEGIN:VEVENT
DTSTART;TZID=Europe/Warsaw:20251205T190000
DTEND;TZID=Europe/Warsaw:20251205T210000
DTSTAMP:20260421T213112
CREATED:20251205T121820Z
LAST-MODIFIED:20251205T121820Z
UID:10000007-1764961200-1764968400@jazzviolinist.com
SUMMARY:Ilona Damięcka Trio feat. Mateusz Smoczyński | Jazz Bez
DESCRIPTION:5 grudnia 2025\, godz. 19.00 \nIlona Damięcka Trio feat. Mateusz Smoczyński \nIlona Damięcka – fortepian\, wokal \nMateusz Smoczyński – skrzypce \nMichał Jaros – kontrabas \nKrzysztof Szmańda – perkusja \nIlona Damięcka jest bardzo wszechstronną artystką\, która zarówno jako pianistka jak i wokalistka porusza się w środkowym nurcie jazzu\, a także w muzyce free jazzowej. Podczas koncertu w Toruniu\, trio Ilony Damięckiej  wraz z gościem specjalnym – Mateuszem Smoczyńskim\, zagrają muzykę z ostatniej płyty artystki – „Hope’”. Koncert odbędzie się w Teatrze Muzycznym w Toruniu 4 kwietnia o godz. 19:00 \nIlona Damięcka – pianistka jazzowa\, wokalistka i kompozytorka.  Absolwentka Wydziału Jazzu i Muzyki Rozrywkowej w Katowicach\, laureatka Konkursu Kompozytorskiego im. Krzysztofa Komedy w Słupsku. Artystka współpracowała z najwybitniejszymi polskimi muzykami takimi jak: Janusz Muniak\, Jan Ptaszyn Wróblewski\, Piotr Wojtasik\, Maciej Sikała\, Marcin Pospieszalski\, czy Mietek Szcześniak\, a także koncertowała z muzykami z Dani i Włoch: Richardem Andersonem\, Rasmusem Schmidtem\, Francescą Bertazzo Hart\, Helgą Plankensteiner. Ma w swoim dorobku artystycznym pięć płyt. W sierpniu 2020 roku ukazała się jej druga autorska płyta\, tym razem nagrana w trio z Pawłem Urowskim i Krzysztofem Szmańdą. \nMateusz Smoczyński to skrzypek jazzowy\, absolwent Akademii Muzycznej im. Fryderyka Chopina w Warszawie\, zwycięzca II Międzynarodowego Konkursu Skrzypcowego im. Zbigniewa Seiferta. W rankingu Jazz Top magazynu Jazz Forum został uznany za jazzowego skrzypka roku 2017.  Występował na najważniejszych scenach i festiwalach jazzowych niemal na całym świecie. Współpracował z takimi artystami jak: Branford Marsalis\, Bobby McFerrin\, Tomasz Stańko\, Zbigniew Namysłowski\, Urszula Dudziak\, Leszek Możdżer\, Kayah\, Natalia Kukulska\, Anna Maria Jopek\, Adam Sztaba\, Sebastian Karpiel Bułecka. Od kilkunastu lat jest liderem kwintetu z którym nagrał trzy płyty. Z New Trio\, ze swoim bratem Janem Smoczyńskim i rosyjskim perkusistą Alexem Zingerem\, wydał dwa albumy. W roku  2017 Mateusz Smoczyński wydał swoją pierwszą klasycyzującą płytę na skrzypce solo „Metamorphoses”. Artysta jest współzałożycielem Atom String Quartet – pierwszego w Polsce kwartetu smyczkowego grającego jazz. \nArtyści podczas koncertu będą wykonywać utwory z płyty Ilony Damięckiej – „Hope”. Muzyka z tego albumu jest muzyką ilustracyjną. Począwszy od pierwszego utworu \,\,The Sea”\, a kończąc na wokalnym \,\,Ten Four” album przepełniony jest minimalizmem i subtelnym ciepłym brzmieniem. Na płycie pojawia się też ukłon w stronę wielkiego mistrza – Tomasza Stańki. To właśnie jemu artystka dedykuje jedną z kompozycji. \nhttps://www.youtube.com/watch?v=ejKVHljefDM
URL:https://jazzviolinist.com/event/ilona-damiecka-trio-feat-mateusz-smoczynski-jazz-bez/
LOCATION:Centrum Kulturalne w Przemyślu\, Stanisława Konarskiego 9\, Przemyśl\, Poland
ATTACH;FMTTYPE=image/webp:https://jazzviolinist.com/wp-content/uploads/2025/12/Ilona-Damiecka-i-Mateusz-Smoczynski-Sopot.webp
END:VEVENT
BEGIN:VEVENT
DTSTART;TZID=Europe/Tallinn:20251130T180000
DTEND;TZID=Europe/Tallinn:20251130T200000
DTSTAMP:20260421T213112
CREATED:20251119T173838Z
LAST-MODIFIED:20251119T173838Z
UID:10000001-1764525600-1764532800@jazzviolinist.com
SUMMARY:Rabih Abou-Khalil Group | Christmas Jazz
DESCRIPTION:One of world music’s leading figures\, the brilliant oud virtuoso Rabih Abou-Khalil appears in Estonia for the first time! A warm\, down-to-earth maestro with more than 25 albums to his name\, he has delighted music fans for 40 years. In Abou-Khalil’s music\, Arab roots and inherited traditions are woven together with those of the West – he doesn’t separate cultures but sets them side by side\, offering inspiration to lovers of jazz\, rock\, world music\, and classical music alike. \nRabih Abou-Khalil was born in Lebanon and began learning the oud at the age of four – an instrument as popular in the Arab world as the guitar is in the West. Having lived in Germany for many years and now based in France\, he remains independent of global music trends. He has collaborated with jazz luminaries such as Steve Swallow\, Kenny Wheeler\, and Joachim Kühn\, as well as classical ensembles including The Modern Ensemble\, the Balanescu Quartet\, the Kronos Quartet\, and the BBC Symphony Orchestra. \nKhalil’s musical essence is perhaps best summed up by his bandmate Mateusz Smoczyński: “Rabih doesn’t like being put in a box – and his music resists categorisation\, too. You can’t call it folk\, classical\, or rock; it’s Rabih’s music.”
URL:https://jazzviolinist.com/event/rabih-abou-khalil-group-christmas-jazz/
LOCATION:Von Krahl\, Telliskivi 60a/9\, Tallinn\, 10412\, Estonia
ATTACH;FMTTYPE=image/jpeg:https://jazzviolinist.com/wp-content/uploads/2025/11/Rabih-Abou-Khalil-Jazzkaar-2025.jpg
END:VEVENT
END:VCALENDAR