BEGIN:VCALENDAR
VERSION:2.0
PRODID:-//Mateusz Smoczyński - ECPv6.15.20//NONSGML v1.0//EN
CALSCALE:GREGORIAN
METHOD:PUBLISH
X-WR-CALNAME:Mateusz Smoczyński
X-ORIGINAL-URL:https://jazzviolinist.com
X-WR-CALDESC:Wydarzenia dla Mateusz Smoczyński
REFRESH-INTERVAL;VALUE=DURATION:PT1H
X-Robots-Tag:noindex
X-PUBLISHED-TTL:PT1H
BEGIN:VTIMEZONE
TZID:Africa/Casablanca
BEGIN:DAYLIGHT
TZOFFSETFROM:+0100
TZOFFSETTO:+0000
TZNAME:+00
DTSTART:20240310T020000
END:DAYLIGHT
BEGIN:STANDARD
TZOFFSETFROM:+0000
TZOFFSETTO:+0100
TZNAME:+01
DTSTART:20240414T020000
END:STANDARD
BEGIN:DAYLIGHT
TZOFFSETFROM:+0100
TZOFFSETTO:+0000
TZNAME:+00
DTSTART:20250223T020000
END:DAYLIGHT
BEGIN:STANDARD
TZOFFSETFROM:+0000
TZOFFSETTO:+0100
TZNAME:+01
DTSTART:20250406T020000
END:STANDARD
BEGIN:DAYLIGHT
TZOFFSETFROM:+0100
TZOFFSETTO:+0000
TZNAME:+00
DTSTART:20260215T020000
END:DAYLIGHT
BEGIN:STANDARD
TZOFFSETFROM:+0000
TZOFFSETTO:+0100
TZNAME:+01
DTSTART:20260322T020000
END:STANDARD
END:VTIMEZONE
BEGIN:VTIMEZONE
TZID:Europe/Madrid
BEGIN:DAYLIGHT
TZOFFSETFROM:+0100
TZOFFSETTO:+0200
TZNAME:CEST
DTSTART:20250330T010000
END:DAYLIGHT
BEGIN:STANDARD
TZOFFSETFROM:+0200
TZOFFSETTO:+0100
TZNAME:CET
DTSTART:20251026T010000
END:STANDARD
BEGIN:DAYLIGHT
TZOFFSETFROM:+0100
TZOFFSETTO:+0200
TZNAME:CEST
DTSTART:20260329T010000
END:DAYLIGHT
BEGIN:STANDARD
TZOFFSETFROM:+0200
TZOFFSETTO:+0100
TZNAME:CET
DTSTART:20261025T010000
END:STANDARD
BEGIN:DAYLIGHT
TZOFFSETFROM:+0100
TZOFFSETTO:+0200
TZNAME:CEST
DTSTART:20270328T010000
END:DAYLIGHT
BEGIN:STANDARD
TZOFFSETFROM:+0200
TZOFFSETTO:+0100
TZNAME:CET
DTSTART:20271031T010000
END:STANDARD
END:VTIMEZONE
BEGIN:VTIMEZONE
TZID:Europe/Berlin
BEGIN:DAYLIGHT
TZOFFSETFROM:+0100
TZOFFSETTO:+0200
TZNAME:CEST
DTSTART:20250330T010000
END:DAYLIGHT
BEGIN:STANDARD
TZOFFSETFROM:+0200
TZOFFSETTO:+0100
TZNAME:CET
DTSTART:20251026T010000
END:STANDARD
BEGIN:DAYLIGHT
TZOFFSETFROM:+0100
TZOFFSETTO:+0200
TZNAME:CEST
DTSTART:20260329T010000
END:DAYLIGHT
BEGIN:STANDARD
TZOFFSETFROM:+0200
TZOFFSETTO:+0100
TZNAME:CET
DTSTART:20261025T010000
END:STANDARD
BEGIN:DAYLIGHT
TZOFFSETFROM:+0100
TZOFFSETTO:+0200
TZNAME:CEST
DTSTART:20270328T010000
END:DAYLIGHT
BEGIN:STANDARD
TZOFFSETFROM:+0200
TZOFFSETTO:+0100
TZNAME:CET
DTSTART:20271031T010000
END:STANDARD
END:VTIMEZONE
BEGIN:VEVENT
DTSTART;TZID=Africa/Casablanca:20251228T223000
DTEND;TZID=Africa/Casablanca:20251228T233000
DTSTAMP:20260419T172634
CREATED:20251223T230257Z
LAST-MODIFIED:20251223T230257Z
UID:10000015-1766961000-1766964600@jazzviolinist.com
SUMMARY:Andrés Coll – Cosmic Trio | Jazz sous l’Arganier
DESCRIPTION:Andrés Coll – Cosmic Trio (Espagne – Pologne) Marimba · Violon · Batterie Un trio qui fusionne des traditions musicales profondément ancrées avec une improvisation audacieuse et sans frontières. Plus qu’une rencontre de virtuoses\, c’est une amitié artistique née autour de l’influence du pianiste Joachim Kühn. Mené par Andrés Coll (marimba électrique\, piano\, castagnettes)\, aux côtés du violoniste polonais Mateusz Smoczyński et du batteur espagnol Ramón López\, le trio développe une musique libre\, inventive et intensément expressive.
URL:https://jazzviolinist.com/event/andres-coll-cosmic-trio-jazz-sous-larganier/
LOCATION:Dar Souiri\, 10 avenue du Caire\, Essaouira\, 44000\, Morocco
ATTACH;FMTTYPE=image/jpeg:https://jazzviolinist.com/wp-content/uploads/2025/12/Andres-Coll-Cosmic-Trio.jpg
END:VEVENT
BEGIN:VEVENT
DTSTART;TZID=Europe/Madrid:20260314T210000
DTEND;TZID=Europe/Madrid:20260314T230000
DTSTAMP:20260419T172634
CREATED:20260228T213654Z
LAST-MODIFIED:20260228T213654Z
UID:10000026-1773522000-1773529200@jazzviolinist.com
SUMMARY:Andrés Coll Cosmic Trio | Campus Jazz
DESCRIPTION:Campus Jazz – Andrés Coll Cosmic Trío se presenta como una interesante propuesta musical en el Teatro Principal de Puerto Real. Este evento invita a los amantes de la música a disfrutar de una actuación en directo que seguramente resonará con los aficionados al jazz y al blues. La propuesta musical de Andrés Coll y su trío promete una velada cautivadora\, ideal para quienes buscan sumergirse en las sonoridades de estos géneros. \nEl Teatro Principal\, que se levantó en 1859 y sigue la tradición de los teatros italianos\, proporciona un ambiente único para este tipo de actuaciones. Su elegante fachada y las ornamentaciones del interior crean la atmósfera perfecta para disfrutar de la música en vivo. Con capacidad para 568 espectadores\, el teatro ofrece una disposición que incluye patio de butacas\, plateas y paraíso\, asegurando que cada asistente pueda disfrutar del espectáculo de manera cómoda y con buena visibilidad. \nAndrés Coll – electric marimba\, vibraphone\, castanets\nMateusz Smoczyński – violin\, baritone violin\nRamón López – drums\, tabla
URL:https://jazzviolinist.com/event/andres-coll-cosmic-trio-campus-jazz/
LOCATION:Teatro Principal de Puerto Real\, Calle Amargura\, 59\, Puerto Real (Cádiz)\, 11510\, Spain
CATEGORIES:Andrés Coll
ATTACH;FMTTYPE=image/jpeg:https://jazzviolinist.com/wp-content/uploads/2025/12/Andres-Coll-Cosmic-Trio.jpg
END:VEVENT
BEGIN:VEVENT
DTSTART;TZID=Europe/Berlin:20260416T200000
DTEND;TZID=Europe/Berlin:20260416T230000
DTSTAMP:20260419T172634
CREATED:20260111T221452Z
LAST-MODIFIED:20260228T110251Z
UID:10000020-1776369600-1776380400@jazzviolinist.com
SUMMARY:Andrés Coll – Odyssey | NDR Jazz
DESCRIPTION:Andrés Coll Odyssey\, special guest: Majid Bekkas\nAndrés Coll marimba\, castagnettes\nMajid Bekkas guembri\, vocals\nMateusz Smoczynski violin\nRamón López dr\, tabla \nIm zarten Alter von drei Jahren trommelte Andrés Coll zu Hause auf Ibiza auf den Klaviertasten\, mit sieben Jahren lernte er Percussion und Marimba\, improvisierte und suchte. Dann jammte er mit Joachim Kühn – und es platzte ein Knoten. Jetzt ist Coll 24 und steht vor einer großen Karriere. Über sein Debüt-Album Sunbird sagt Kühn: „Andrés Coll spielt Marimba wie kein anderer – mit Feeling\, Virtuosität und einer Vision. Er ist für mich der neue Star in der Jazzwelt auf den Mallets.” An Colls Seite spielen der polnische Violinist Mateusz Smoczynski vom Atom String Quartet\, die marokkanische Gnawa-Legende Majid Bekkas und der spanische Rhythmus-Wizzard Ramón Lopez. Jedes ihrer Konzerte ist eine rauschhafte Session\, in der sie auf eine bisher nicht gekannte Weise Folklore und Avantgarde\, balearische und nordafrikanische Traditionen mit Jazz verbinden. Über seine Musik sagt Andrés Coll: „Sie zeigt die Möglichkeit auf\, Momente des Chaos zu akzeptieren\, die Angst vor dem Tod zu verlieren\, um dann in einem kollektiven Groove zu verschmelzen. 'Odyssey’ ist menschliche Erfahrung und Abenteuer.”
URL:https://jazzviolinist.com/event/andres-coll-odyssey-ndr-jazz/2026-04-16/
LOCATION:NDR – Rolf-Liebermann-Studio\, Oberstraße 120\, Hamburg\, 20149\, Germany
CATEGORIES:Andrés Coll,Odyssey
ATTACH;FMTTYPE=image/jpeg:https://jazzviolinist.com/wp-content/uploads/2026/01/Andres-Coll-Odyssey.jpg
END:VEVENT
BEGIN:VEVENT
DTSTART;TZID=Europe/Berlin:20260417T200000
DTEND;TZID=Europe/Berlin:20260417T230000
DTSTAMP:20260419T172634
CREATED:20260111T221452Z
LAST-MODIFIED:20260228T110251Z
UID:10000021-1776456000-1776466800@jazzviolinist.com
SUMMARY:Andrés Coll – Odyssey | NDR Jazz
DESCRIPTION:Andrés Coll Odyssey\, special guest: Majid Bekkas\nAndrés Coll marimba\, castagnettes\nMajid Bekkas guembri\, vocals\nMateusz Smoczynski violin\nRamón López dr\, tabla \nIm zarten Alter von drei Jahren trommelte Andrés Coll zu Hause auf Ibiza auf den Klaviertasten\, mit sieben Jahren lernte er Percussion und Marimba\, improvisierte und suchte. Dann jammte er mit Joachim Kühn – und es platzte ein Knoten. Jetzt ist Coll 24 und steht vor einer großen Karriere. Über sein Debüt-Album Sunbird sagt Kühn: „Andrés Coll spielt Marimba wie kein anderer – mit Feeling\, Virtuosität und einer Vision. Er ist für mich der neue Star in der Jazzwelt auf den Mallets.” An Colls Seite spielen der polnische Violinist Mateusz Smoczynski vom Atom String Quartet\, die marokkanische Gnawa-Legende Majid Bekkas und der spanische Rhythmus-Wizzard Ramón Lopez. Jedes ihrer Konzerte ist eine rauschhafte Session\, in der sie auf eine bisher nicht gekannte Weise Folklore und Avantgarde\, balearische und nordafrikanische Traditionen mit Jazz verbinden. Über seine Musik sagt Andrés Coll: „Sie zeigt die Möglichkeit auf\, Momente des Chaos zu akzeptieren\, die Angst vor dem Tod zu verlieren\, um dann in einem kollektiven Groove zu verschmelzen. 'Odyssey’ ist menschliche Erfahrung und Abenteuer.”
URL:https://jazzviolinist.com/event/andres-coll-odyssey-ndr-jazz/2026-04-17/
LOCATION:NDR – Rolf-Liebermann-Studio\, Oberstraße 120\, Hamburg\, 20149\, Germany
CATEGORIES:Andrés Coll,Odyssey
ATTACH;FMTTYPE=image/jpeg:https://jazzviolinist.com/wp-content/uploads/2026/01/Andres-Coll-Odyssey.jpg
END:VEVENT
END:VCALENDAR